BEGIN:VCALENDAR
VERSION:2.0
PRODID:-//eventon.com NONSGML v1.0//EN
CALSCALE:GREGORIAN
METHOD:PUBLISH
BEGIN:VEVENT
UID:69ea1e539e0e0
DTSTAMP:20260423T132747Z
DTSTART:20260521T233000Z
DTEND:20260522T013000Z
LOCATION:
SUMMARY:Roanoke Chapter Meeting
DESCRIPTION:Monthly Roanoke Chapter meeting which takes place at the Virgin
 ian Station. The meeting takes place on the 3rd Thursday of every month. Me
 etings are open to anyone interested in learning about the Roanoke Chapter 
 NRHS. More information about the chapter meetings can be found HERE\nhttps:
 //www.roanokenrhs.org/events/roanoke-chapter-meeting-14/
URL:https://www.roanokenrhs.org/events/roanoke-chapter-meeting-14/
END:VEVENT
END:VCALENDAR